BEGIN:VCALENDAR
VERSION:2.0
PRODID:-//Sophicity/Tribune/City Of Jonesboro
BEGIN:VEVENT
DTSTAMP:20260423T192652Z
UID:e0645a0d-b1a7-48c5-b055-1b6903bdd3b9-7241
DTSTART:20210405T220000Z
DTEND:20210405T220000Z
LOCATION:Jonesboro Police Department Courtroom Chambers
CLASS:PUBLIC
SUMMARY:City Council - Work Session
END:VEVENT
END:VCALENDAR
